BEGIN:VCALENDAR
VERSION:2.0
PRODID:-//SP Küsnacht - ECPv6.15.20//NONSGML v1.0//EN
CALSCALE:GREGORIAN
METHOD:PUBLISH
X-WR-CALNAME:SP Küsnacht
X-ORIGINAL-URL:https://sp-kuesnacht.ch
X-WR-CALDESC:Veranstaltungen im SP Küsnacht
REFRESH-INTERVAL;VALUE=DURATION:PT1H
X-Robots-Tag:noindex
X-PUBLISHED-TTL:PT1H
BEGIN:VTIMEZONE
TZID:Europe/Zurich
BEGIN:DAYLIGHT
TZOFFSETFROM:+0100
TZOFFSETTO:+0200
TZNAME:CEST
DTSTART:20250330T010000
END:DAYLIGHT
BEGIN:STANDARD
TZOFFSETFROM:+0200
TZOFFSETTO:+0100
TZNAME:CET
DTSTART:20251026T010000
END:STANDARD
BEGIN:DAYLIGHT
TZOFFSETFROM:+0100
TZOFFSETTO:+0200
TZNAME:CEST
DTSTART:20260329T010000
END:DAYLIGHT
BEGIN:STANDARD
TZOFFSETFROM:+0200
TZOFFSETTO:+0100
TZNAME:CET
DTSTART:20261025T010000
END:STANDARD
BEGIN:DAYLIGHT
TZOFFSETFROM:+0100
TZOFFSETTO:+0200
TZNAME:CEST
DTSTART:20270328T010000
END:DAYLIGHT
BEGIN:STANDARD
TZOFFSETFROM:+0200
TZOFFSETTO:+0100
TZNAME:CET
DTSTART:20271031T010000
END:STANDARD
END:VTIMEZONE
BEGIN:VEVENT
DTSTART;TZID=Europe/Zurich:20260308T140000
DTEND;TZID=Europe/Zurich:20260308T180000
DTSTAMP:20260419T145643
CREATED:20260227T092036Z
LAST-MODIFIED:20260227T094054Z
UID:88697-1772978400-1772992800@sp-kuesnacht.ch
SUMMARY:SP Küsnacht – Wahlergebnis-Anlass am 8. März 2026
DESCRIPTION:Die SP Küsnacht lädt am 8. März 2026 von 14.00 bis 18.00 Uhr in der Chrottegrotte alle Mitglieder\, Sympathisierenden\, Wahlkandidierenden sowie Vertreterinnen und Vertreter aller Parteien aus Küsnacht – RGP\, SVP\, FDP\, GLP\, Grüne\, Die Mitte – herzlich ein. \nWir freuen uns auf einen gemütlichen Nachmittag\, um die Wahlergebnisse gemeinsam zu erleben\, sich auszutauschen und über die Wahl zu reflektieren. Ob erfolgreich oder herausfordernd – der Anlass bietet Gelegenheit\, miteinander ins Gespräch zu kommen\, die Wahlzeit hinter sich zu lassen und einfach eine gute Zeit zusammen zu haben. \nEs wird Zeit für Begegnungen\, Gespräche und ein kleines Fest unter Freunden. \nDamit wir den Anlass gut planen können\, bitten wir um kurze Anmeldung. Jede teilnehmende Person bringt bitte etwas zum Essen oder Trinken mit. \nKontakt & Anmeldung:Elisa Catanho\, SP KüsnachtE-Mail: info@sp-kuesnacht.chTelefon: 079 248 00 07
URL:https://sp-kuesnacht.ch/veranstaltung/sp-kuesnacht-wahlergebnis-anlass-am-8-maerz-2026/
END:VEVENT
END:VCALENDAR